BEGIN:VCALENDAR
VERSION:2.0
PRODID:-//Lake Anna Connections - ECPv6.15.20//NONSGML v1.0//EN
CALSCALE:GREGORIAN
METHOD:PUBLISH
X-WR-CALNAME:Lake Anna Connections
X-ORIGINAL-URL:https://lakeannaconnections.com
X-WR-CALDESC:Events for Lake Anna Connections
REFRESH-INTERVAL;VALUE=DURATION:PT1H
X-Robots-Tag:noindex
X-PUBLISHED-TTL:PT1H
BEGIN:VTIMEZONE
TZID:America/New_York
BEGIN:DAYLIGHT
TZOFFSETFROM:-0500
TZOFFSETTO:-0400
TZNAME:EDT
DTSTART:20250309T070000
END:DAYLIGHT
BEGIN:STANDARD
TZOFFSETFROM:-0400
TZOFFSETTO:-0500
TZNAME:EST
DTSTART:20251102T060000
END:STANDARD
BEGIN:DAYLIGHT
TZOFFSETFROM:-0500
TZOFFSETTO:-0400
TZNAME:EDT
DTSTART:20260308T070000
END:DAYLIGHT
BEGIN:STANDARD
TZOFFSETFROM:-0400
TZOFFSETTO:-0500
TZNAME:EST
DTSTART:20261101T060000
END:STANDARD
BEGIN:DAYLIGHT
TZOFFSETFROM:-0500
TZOFFSETTO:-0400
TZNAME:EDT
DTSTART:20270314T070000
END:DAYLIGHT
BEGIN:STANDARD
TZOFFSETFROM:-0400
TZOFFSETTO:-0500
TZNAME:EST
DTSTART:20271107T060000
END:STANDARD
END:VTIMEZONE
BEGIN:VEVENT
DTSTART;TZID=America/New_York:20260502T090000
DTEND;TZID=America/New_York:20260502T140000
DTSTAMP:20260423T172227
CREATED:20260415T185210Z
LAST-MODIFIED:20260415T185210Z
UID:11327-1777712400-1777730400@lakeannaconnections.com
SUMMARY:Belmont Club of Women Annual Plant and Yard Sale
DESCRIPTION:Deep Roots Nursery supplies most of the inventory including annuals\, perennials\, hanging baskets and more. Plants are also donated by members for purchase. If you would like to rent a table contact 410-428-0968. Cost is $10.00 per table.
URL:https://lakeannaconnections.com/event/belmont-club-of-women-annual-plant-and-yard-sale/
LOCATION:Belmont Community Center\, 7124 Belmont Road\, Mineral\, VA\, 23117
END:VEVENT
BEGIN:VEVENT
DTSTART;TZID=America/New_York:20260503T140000
DTEND;TZID=America/New_York:20260503T140000
DTSTAMP:20260423T172227
CREATED:20260211T183051Z
LAST-MODIFIED:20260211T183051Z
UID:11035-1777816800-1777816800@lakeannaconnections.com
SUMMARY:Cville Band - Brass Quintet & Rivanna Winds
DESCRIPTION:Experience an afternoon of vibrant brass music as The Cville Brass takes the stage! For more than 20 years\, this beloved Central Virginia quintet has enriched community gatherings with its warm sound and wide-ranging repertoire.
URL:https://lakeannaconnections.com/event/cville-band-brass-quintet-rivanna-winds/
LOCATION:Louisa Arts Center\, 212 Fredericksburg Avenue\, Louisa\, VA\, 23093
END:VEVENT
BEGIN:VEVENT
DTSTART;TZID=America/New_York:20260509T193000
DTEND;TZID=America/New_York:20260509T193000
DTSTAMP:20260423T172227
CREATED:20260211T183324Z
LAST-MODIFIED:20260211T183324Z
UID:11037-1778355000-1778355000@lakeannaconnections.com
SUMMARY:Live and Let Die: The Music of Paul McCartney
DESCRIPTION:Starring Tony Kishman\, veteran of Broadway’s Beatlemania\, this dynamic multimedia show brings Beatles and McCartney hits to life with stunning visuals and world-class musicianship.
URL:https://lakeannaconnections.com/event/live-and-let-die-the-music-of-paul-mccartney/
LOCATION:Louisa Arts Center\, 212 Fredericksburg Avenue\, Louisa\, VA\, 23093
END:VEVENT
BEGIN:VEVENT
DTSTART;TZID=America/New_York:20260703T160000
DTEND;TZID=America/New_York:20260703T213000
DTSTAMP:20260423T172227
CREATED:20260325T140555Z
LAST-MODIFIED:20260325T140555Z
UID:11068-1783094400-1783114200@lakeannaconnections.com
SUMMARY:2026 Red White & Brew Festival
DESCRIPTION:Southern Revere Cellars is putting on a fun filled day of beer and wine\, delicious food\, vendors\, and topping the day off with a concert and FIREWORKS SHOW! (Event is family-friendly!)
URL:https://lakeannaconnections.com/event/2026-red-white-brew-festival/
LOCATION:Southern Revere Cellars\, 1100 E Jack Jouett Rd\, Louisa\, VA\, 23093
END:VEVENT
END:VCALENDAR