BEGIN:VCALENDAR
VERSION:2.0
PRODID:-//Lake Anna Connections - ECPv6.15.20//NONSGML v1.0//EN
CALSCALE:GREGORIAN
METHOD:PUBLISH
X-ORIGINAL-URL:https://lakeannaconnections.com
X-WR-CALDESC:Events for Lake Anna Connections
REFRESH-INTERVAL;VALUE=DURATION:PT1H
X-Robots-Tag:noindex
X-PUBLISHED-TTL:PT1H
BEGIN:VTIMEZONE
TZID:America/New_York
BEGIN:DAYLIGHT
TZOFFSETFROM:-0500
TZOFFSETTO:-0400
TZNAME:EDT
DTSTART:20250309T070000
END:DAYLIGHT
BEGIN:STANDARD
TZOFFSETFROM:-0400
TZOFFSETTO:-0500
TZNAME:EST
DTSTART:20251102T060000
END:STANDARD
BEGIN:DAYLIGHT
TZOFFSETFROM:-0500
TZOFFSETTO:-0400
TZNAME:EDT
DTSTART:20260308T070000
END:DAYLIGHT
BEGIN:STANDARD
TZOFFSETFROM:-0400
TZOFFSETTO:-0500
TZNAME:EST
DTSTART:20261101T060000
END:STANDARD
BEGIN:DAYLIGHT
TZOFFSETFROM:-0500
TZOFFSETTO:-0400
TZNAME:EDT
DTSTART:20270314T070000
END:DAYLIGHT
BEGIN:STANDARD
TZOFFSETFROM:-0400
TZOFFSETTO:-0500
TZNAME:EST
DTSTART:20271107T060000
END:STANDARD
END:VTIMEZONE
BEGIN:VEVENT
DTSTART;TZID=America/New_York:20260418T120000
DTEND;TZID=America/New_York:20260418T180000
DTSTAMP:20260423T160328
CREATED:20260305T150328Z
LAST-MODIFIED:20260305T150328Z
UID:11052-1776513600-1776535200@lakeannaconnections.com
SUMMARY:Lake Anna Wine & Brew Fest
DESCRIPTION:Spend the afternoon sampling and savoring some of the region’s premier wineries and breweries\, enjoying food from local businesses\, and listening to live music — all set against the scenic backdrop of beautiful Lake Anna.
URL:https://lakeannaconnections.com/event/lake-anna-wine-brew-fest/
LOCATION:Lake Anna Taphouse\, 208 Lake Front Drive\, Mineral\, VA\, 23117
END:VEVENT
BEGIN:VEVENT
DTSTART;TZID=America/New_York:20260418T193000
DTEND;TZID=America/New_York:20260418T213000
DTSTAMP:20260423T160328
CREATED:20260218T210131Z
LAST-MODIFIED:20260218T210131Z
UID:11042-1776540600-1776547800@lakeannaconnections.com
SUMMARY:Jesse Garron – “The Closest Thing to the King”
DESCRIPTION:Dubbed “The Closest Thing to the King\,” Jesse Garron delivers a powerful tribute to Elvis Presley that captures both the voice and spirit of the King of Rock ’n’ Roll.
URL:https://lakeannaconnections.com/event/jesse-garron-the-closest-thing-to-the-king/
LOCATION:Louisa Arts Center\, 212 Fredericksburg Avenue\, Louisa\, VA\, 23093
END:VEVENT
END:VCALENDAR