BEGIN:VCALENDAR
VERSION:2.0
PRODID:-//Lake Anna Connections - ECPv6.15.20//NONSGML v1.0//EN
CALSCALE:GREGORIAN
METHOD:PUBLISH
X-WR-CALNAME:Lake Anna Connections
X-ORIGINAL-URL:https://lakeannaconnections.com
X-WR-CALDESC:Events for Lake Anna Connections
REFRESH-INTERVAL;VALUE=DURATION:PT1H
X-Robots-Tag:noindex
X-PUBLISHED-TTL:PT1H
BEGIN:VTIMEZONE
TZID:America/New_York
BEGIN:DAYLIGHT
TZOFFSETFROM:-0500
TZOFFSETTO:-0400
TZNAME:EDT
DTSTART:20250309T070000
END:DAYLIGHT
BEGIN:STANDARD
TZOFFSETFROM:-0400
TZOFFSETTO:-0500
TZNAME:EST
DTSTART:20251102T060000
END:STANDARD
BEGIN:DAYLIGHT
TZOFFSETFROM:-0500
TZOFFSETTO:-0400
TZNAME:EDT
DTSTART:20260308T070000
END:DAYLIGHT
BEGIN:STANDARD
TZOFFSETFROM:-0400
TZOFFSETTO:-0500
TZNAME:EST
DTSTART:20261101T060000
END:STANDARD
BEGIN:DAYLIGHT
TZOFFSETFROM:-0500
TZOFFSETTO:-0400
TZNAME:EDT
DTSTART:20270314T070000
END:DAYLIGHT
BEGIN:STANDARD
TZOFFSETFROM:-0400
TZOFFSETTO:-0500
TZNAME:EST
DTSTART:20271107T060000
END:STANDARD
END:VTIMEZONE
BEGIN:VEVENT
DTSTART;TZID=America/New_York:20260411T090000
DTEND;TZID=America/New_York:20260411T150000
DTSTAMP:20260423T160052
CREATED:20260113T171828Z
LAST-MODIFIED:20260113T171828Z
UID:10981-1775898000-1775919600@lakeannaconnections.com
SUMMARY:Appomattox Event: Lee and Grant Surrender
DESCRIPTION:Come out for a great day of history fun and learning!
URL:https://lakeannaconnections.com/event/appomattox-event-lee-and-grant-surrender/
LOCATION:159 Horseshoe Rd\, Appomattox\, VA 24522\, 159 Horseshoe Rd\, Appomattox\, VA\, 24522
END:VEVENT
END:VCALENDAR