BEGIN:VCALENDAR
VERSION:2.0
PRODID:-//Lake Anna Connections - ECPv6.15.20//NONSGML v1.0//EN
CALSCALE:GREGORIAN
METHOD:PUBLISH
X-ORIGINAL-URL:https://lakeannaconnections.com
X-WR-CALDESC:Events for Lake Anna Connections
REFRESH-INTERVAL;VALUE=DURATION:PT1H
X-Robots-Tag:noindex
X-PUBLISHED-TTL:PT1H
BEGIN:VTIMEZONE
TZID:America/New_York
BEGIN:DAYLIGHT
TZOFFSETFROM:-0500
TZOFFSETTO:-0400
TZNAME:EDT
DTSTART:20250309T070000
END:DAYLIGHT
BEGIN:STANDARD
TZOFFSETFROM:-0400
TZOFFSETTO:-0500
TZNAME:EST
DTSTART:20251102T060000
END:STANDARD
BEGIN:DAYLIGHT
TZOFFSETFROM:-0500
TZOFFSETTO:-0400
TZNAME:EDT
DTSTART:20260308T070000
END:DAYLIGHT
BEGIN:STANDARD
TZOFFSETFROM:-0400
TZOFFSETTO:-0500
TZNAME:EST
DTSTART:20261101T060000
END:STANDARD
BEGIN:DAYLIGHT
TZOFFSETFROM:-0500
TZOFFSETTO:-0400
TZNAME:EDT
DTSTART:20270314T070000
END:DAYLIGHT
BEGIN:STANDARD
TZOFFSETFROM:-0400
TZOFFSETTO:-0500
TZNAME:EST
DTSTART:20271107T060000
END:STANDARD
END:VTIMEZONE
BEGIN:VEVENT
DTSTART;TZID=America/New_York:20260404T110000
DTEND;TZID=America/New_York:20260404T130000
DTSTAMP:20260423T160219
CREATED:20260130T161120Z
LAST-MODIFIED:20260130T161120Z
UID:11024-1775300400-1775307600@lakeannaconnections.com
SUMMARY:Annual Adult Easter Egg Hunt
DESCRIPTION:Get ready to relive one of the greatest traditions in the most epic way! We’re hiding Easter eggs all around the cidery—and each one comes with a prize that’ll have you hopping for joy!
URL:https://lakeannaconnections.com/event/annual-adult-easter-egg-hunt/
LOCATION:Coyote Hole Ciderworks\, 225 Oak Grove Road\, Mineral\, VA\, 23117
END:VEVENT
BEGIN:VEVENT
DTSTART;TZID=America/New_York:20260404T170000
DTEND;TZID=America/New_York:20260404T230000
DTSTAMP:20260423T160219
CREATED:20260129T161159Z
LAST-MODIFIED:20260129T161159Z
UID:11019-1775322000-1775343600@lakeannaconnections.com
SUMMARY:2026 NASCAR Season Opener at Dominion Raceway
DESCRIPTION:The Truckin Thunder America Racer Late Models roar back into NASCAR Regional action joined by the heart-pounding SMART Modified Tour and a stacked night of racing you do not want to miss.
URL:https://lakeannaconnections.com/event/2026-nascar-season-opener-at-dominion-raceway/
LOCATION:Dominion Raceway\, 6501 Dominion Raceway Ave\, Woodford\, VA\, 22580
END:VEVENT
END:VCALENDAR