BEGIN:VCALENDAR
VERSION:2.0
PRODID:-//Lake Anna Connections - ECPv6.15.20//NONSGML v1.0//EN
CALSCALE:GREGORIAN
METHOD:PUBLISH
X-ORIGINAL-URL:https://lakeannaconnections.com
X-WR-CALDESC:Events for Lake Anna Connections
REFRESH-INTERVAL;VALUE=DURATION:PT1H
X-Robots-Tag:noindex
X-PUBLISHED-TTL:PT1H
BEGIN:VTIMEZONE
TZID:America/New_York
BEGIN:DAYLIGHT
TZOFFSETFROM:-0500
TZOFFSETTO:-0400
TZNAME:EDT
DTSTART:20250309T070000
END:DAYLIGHT
BEGIN:STANDARD
TZOFFSETFROM:-0400
TZOFFSETTO:-0500
TZNAME:EST
DTSTART:20251102T060000
END:STANDARD
BEGIN:DAYLIGHT
TZOFFSETFROM:-0500
TZOFFSETTO:-0400
TZNAME:EDT
DTSTART:20260308T070000
END:DAYLIGHT
BEGIN:STANDARD
TZOFFSETFROM:-0400
TZOFFSETTO:-0500
TZNAME:EST
DTSTART:20261101T060000
END:STANDARD
BEGIN:DAYLIGHT
TZOFFSETFROM:-0500
TZOFFSETTO:-0400
TZNAME:EDT
DTSTART:20270314T070000
END:DAYLIGHT
BEGIN:STANDARD
TZOFFSETFROM:-0400
TZOFFSETTO:-0500
TZNAME:EST
DTSTART:20271107T060000
END:STANDARD
END:VTIMEZONE
BEGIN:VEVENT
DTSTART;TZID=America/New_York:20260324T160000
DTEND;TZID=America/New_York:20260324T170000
DTSTAMP:20260423T174023
CREATED:20260206T190359Z
LAST-MODIFIED:20260206T190359Z
UID:11028-1774368000-1774371600@lakeannaconnections.com
SUMMARY:Same Page Community Read
DESCRIPTION:All are welcomed!  Join the library to discuss this year’s Same Page Community Read selection:  The House of Eve by Sadeqa Johnson.
URL:https://lakeannaconnections.com/event/same-page-community-read/
LOCATION:Louisa County Library\, 881 Davis Highway\, Mineral\, VA\, 23117
END:VEVENT
END:VCALENDAR