BEGIN:VCALENDAR
VERSION:2.0
PRODID:-//Lake Anna Connections - ECPv6.15.20//NONSGML v1.0//EN
CALSCALE:GREGORIAN
METHOD:PUBLISH
X-ORIGINAL-URL:https://lakeannaconnections.com
X-WR-CALDESC:Events for Lake Anna Connections
REFRESH-INTERVAL;VALUE=DURATION:PT1H
X-Robots-Tag:noindex
X-PUBLISHED-TTL:PT1H
BEGIN:VTIMEZONE
TZID:America/New_York
BEGIN:DAYLIGHT
TZOFFSETFROM:-0500
TZOFFSETTO:-0400
TZNAME:EDT
DTSTART:20250309T070000
END:DAYLIGHT
BEGIN:STANDARD
TZOFFSETFROM:-0400
TZOFFSETTO:-0500
TZNAME:EST
DTSTART:20251102T060000
END:STANDARD
BEGIN:DAYLIGHT
TZOFFSETFROM:-0500
TZOFFSETTO:-0400
TZNAME:EDT
DTSTART:20260308T070000
END:DAYLIGHT
BEGIN:STANDARD
TZOFFSETFROM:-0400
TZOFFSETTO:-0500
TZNAME:EST
DTSTART:20261101T060000
END:STANDARD
BEGIN:DAYLIGHT
TZOFFSETFROM:-0500
TZOFFSETTO:-0400
TZNAME:EDT
DTSTART:20270314T070000
END:DAYLIGHT
BEGIN:STANDARD
TZOFFSETFROM:-0400
TZOFFSETTO:-0500
TZNAME:EST
DTSTART:20271107T060000
END:STANDARD
END:VTIMEZONE
BEGIN:VEVENT
DTSTART;TZID=America/New_York:20260305T100000
DTEND;TZID=America/New_York:20260305T120000
DTSTAMP:20260423T173958
CREATED:20260113T171439Z
LAST-MODIFIED:20260113T171439Z
UID:10979-1772704800-1772712000@lakeannaconnections.com
SUMMARY:Hearth & Herb Guild Meeting
DESCRIPTION:The Guild is a group of gardening and hearth cook enthusiasts committed to herbal and horticultural education and bringing Louisa County history to life through hands-on experiences. 
URL:https://lakeannaconnections.com/event/hearth-herb-guild-meeting/
LOCATION:Sargeant Museum\, 214 Fredericksburg Avenue\, Louisa\, VA\, 23093
END:VEVENT
END:VCALENDAR